BEGIN:VCALENDAR
VERSION:2.0
PRODID:www.credit-agricole.com
BEGIN:VEVENT
UID:69e660ef20397
DTSTART:20260520T120000
SEQUENCE:0
TRANSP:OPAQUE
LOCATION:Saint-Brieuc
SUMMARY:2026 General Meeting
CLASS:PUBLIC
DTSTAMP:20260420T172255Z
END:VEVENT
END:VCALENDAR