BEGIN:VCALENDAR
VERSION:2.0
PRODID:www.credit-agricole.com
BEGIN:VEVENT
UID:69e660f013e91
DTSTART:20260526T120000
SEQUENCE:0
TRANSP:OPAQUE
SUMMARY:Ex-dividend
CLASS:PUBLIC
DTSTAMP:20260420T172256Z
END:VEVENT
END:VCALENDAR